BEGIN:VCALENDAR
VERSION:2.0
PRODID:dokfest-muenchen.de
BEGIN:VEVENT
UID:69eb9f1575db7
DTSTART:20260509T063000Z
SEQUENCE:0
TRANSP:OPAQUE
DTEND:20260509T083000Z
LOCATION:HFF - Seminarraum 2
SUMMARY:Roundtable Pitches Slot 1 / Table 1
CLASS:PUBLIC
DTSTAMP:20260424T164925Z
END:VEVENT
END:VCALENDAR