BEGIN:VCALENDAR
VERSION:2.0
PRODID:dokfest-muenchen.de
BEGIN:VEVENT
UID:69eb9f6285ef6
DTSTART:20260509T084000Z
SEQUENCE:0
TRANSP:OPAQUE
DTEND:20260509T104000Z
LOCATION:HFF - Seminarräume
SUMMARY:Roundtable Pitches Slot 2 / Table 4
CLASS:PUBLIC
DTSTAMP:20260424T165042Z
END:VEVENT
END:VCALENDAR