BEGIN:VCALENDAR
VERSION:2.0
PRODID:dokfest-muenchen.de
BEGIN:VEVENT
UID:69eb9f1594df7
DTSTART:20260509T084000Z
SEQUENCE:0
TRANSP:OPAQUE
DTEND:20260509T104000Z
LOCATION:HFF - Seminarraum 8
SUMMARY:Roundtable Pitches Slot 2 / Table 3
CLASS:PUBLIC
DTSTAMP:20260424T164925Z
END:VEVENT
END:VCALENDAR