BEGIN:VCALENDAR
VERSION:2.0
PRODID:dokfest-muenchen.de
BEGIN:VEVENT
UID:69eb9f5d13532
DTSTART:20260509T084000Z
SEQUENCE:0
TRANSP:OPAQUE
DTEND:20260509T104000Z
LOCATION:HFF - Seminarraum 6
SUMMARY:Roundtable Pitches Slot 2 / Table 2
CLASS:PUBLIC
DTSTAMP:20260424T165037Z
END:VEVENT
END:VCALENDAR