BEGIN:VCALENDAR
VERSION:2.0
PRODID:dokfest-muenchen.de
BEGIN:VEVENT
UID:69eb9f5c288aa
DTSTART:20260509T084000Z
SEQUENCE:0
TRANSP:OPAQUE
DTEND:20260509T104000Z
LOCATION:HFF - Seminarraum 2
SUMMARY:Roundtable Pitches Slot 2 / Table 1
CLASS:PUBLIC
DTSTAMP:20260424T165036Z
END:VEVENT
END:VCALENDAR