BEGIN:VCALENDAR
VERSION:2.0
PRODID:dokfest-muenchen.de
BEGIN:VEVENT
UID:69eb89b734280
DTSTART:20260511T073000Z
SEQUENCE:0
TRANSP:OPAQUE
DTEND:20260511T093000Z
LOCATION:HFF - Foyer
SUMMARY:Willkommenskaffee: Konferenz Filmvermittlung heute
CLASS:PUBLIC
DTSTAMP:20260424T151815Z
END:VEVENT
END:VCALENDAR