BEGIN:VCALENDAR
VERSION:2.0
PRODID:dokfest-muenchen.de
BEGIN:VEVENT
UID:69e770802d188
DTSTART:20260512T160000Z
SEQUENCE:0
TRANSP:OPAQUE
DTEND:20260512T190600Z
LOCATION:HFF - Kino 1
SUMMARY:Filme aus dem Austauschprogramm PUNTO DE VISTA MEXIKO\nCROSSING BOR
 DERS LISSABON
CLASS:PUBLIC
DTSTAMP:20260421T124136Z
END:VEVENT
END:VCALENDAR