BEGIN:VCALENDAR
VERSION:2.0
PRODID:dokfest-muenchen.de
BEGIN:VEVENT
UID:69eb898594f96
DTSTART:20260511T073000Z
SEQUENCE:0
TRANSP:OPAQUE
DTEND:20260511T093000Z
LOCATION:HFF - Seminarraum 6
SUMMARY:DOKU KAMERA MASTERCLASS: Reportage vs. beobachtender Dokumentarfilm
CLASS:PUBLIC
DTSTAMP:20260424T151725Z
END:VEVENT
END:VCALENDAR