BEGIN:VCALENDAR
VERSION:2.0
PRODID:dokfest-muenchen.de
BEGIN:VEVENT
UID:69e770804ca31
DTSTART:20260508T123000Z
SEQUENCE:0
TRANSP:OPAQUE
DTEND:20260508T143000Z
LOCATION:HFF - Seminarraum 2
SUMMARY:African Encounters &amp\; Eurodoc BIPOC Meet DOK.forum
CLASS:PUBLIC
DTSTAMP:20260421T124136Z
END:VEVENT
END:VCALENDAR