BEGIN:VCALENDAR
VERSION:2.0
PRODID:dokfest-muenchen.de
BEGIN:VEVENT
UID:69eb89c841e82
DTSTART:20260508T113000Z
SEQUENCE:0
TRANSP:OPAQUE
DTEND:20260508T133000Z
LOCATION:HFF - Audimax
SUMMARY:Welcome to DCampus Exchange
CLASS:PUBLIC
DTSTAMP:20260424T151832Z
END:VEVENT
END:VCALENDAR