BEGIN:VCALENDAR
VERSION:2.0
PRODID:dokfest-muenchen.de
BEGIN:VEVENT
UID:69eb897280264
DTSTART:20260510T110000Z
SEQUENCE:0
TRANSP:OPAQUE
DTEND:20260510T130000Z
LOCATION:HFF - Foyer
SUMMARY:Lunch DOK.forum &amp\; Filmvermittlung
CLASS:PUBLIC
DTSTAMP:20260424T151706Z
END:VEVENT
END:VCALENDAR