BEGIN:VCALENDAR
VERSION:2.0
PRODID:dokfest-muenchen.de
BEGIN:VEVENT
UID:69eb897538c1b
DTSTART:20260510T073000Z
SEQUENCE:0
TRANSP:OPAQUE
DTEND:20260510T093000Z
LOCATION:HFF - Foyer
SUMMARY:Willkommenskaffee: Konferenz Filmvermittlung heute
CLASS:PUBLIC
DTSTAMP:20260424T151709Z
END:VEVENT
END:VCALENDAR