BEGIN:VCALENDAR
VERSION:2.0
PRODID:dokfest-muenchen.de
BEGIN:VEVENT
UID:69eb89c818535
DTSTART:20260510T120000Z
SEQUENCE:0
TRANSP:OPAQUE
DTEND:20260510T140000Z
LOCATION:HFF - Seminarraum 1
SUMMARY:DOK.forum One-to-One Meetings
CLASS:PUBLIC
DTSTAMP:20260424T151832Z
END:VEVENT
END:VCALENDAR