BEGIN:VCALENDAR
VERSION:2.0
PRODID:dokfest-muenchen.de
BEGIN:VEVENT
UID:69eb89b753343
DTSTART:20260510T080000Z
SEQUENCE:0
TRANSP:OPAQUE
DTEND:20260510T100000Z
LOCATION:HFF - Filmstudio 1
SUMMARY:Tag 1: Konferenz Filmvermittlung heute – Sichtbarkeit\, Professio
 n\, Zukunft
CLASS:PUBLIC
DTSTAMP:20260424T151815Z
END:VEVENT
END:VCALENDAR