BEGIN:VCALENDAR
VERSION:2.0
PRODID:dokfest-muenchen.de
BEGIN:VEVENT
UID:69eb89c8d0af7
DTSTART:20260511T110000Z
SEQUENCE:0
TRANSP:OPAQUE
DTEND:20260511T130000Z
LOCATION:HFF - Foyer
SUMMARY:Lunch  Filmvermittlung
CLASS:PUBLIC
DTSTAMP:20260424T151832Z
END:VEVENT
END:VCALENDAR