BEGIN:VCALENDAR
VERSION:2.0
PRODID:dokfest-muenchen.de
BEGIN:VEVENT
UID:69eb89c837702
DTSTART:20260511T080000Z
SEQUENCE:0
TRANSP:OPAQUE
DTEND:20260511T100000Z
LOCATION:HFF - Filmstudio 1
SUMMARY:Tag 2: Konferenz Filmvermittlung – Sichtbarkeit\, Profession\, Zu
 kunft
CLASS:PUBLIC
DTSTAMP:20260424T151832Z
END:VEVENT
END:VCALENDAR