BEGIN:VCALENDAR
VERSION:2.0
PRODID:dokfest-muenchen.de
BEGIN:VEVENT
UID:69eb89b7f2649
DTSTART:20260511T080000Z
SEQUENCE:0
TRANSP:OPAQUE
DTEND:20260511T100000Z
LOCATION:HFF - Seminarraum 1
SUMMARY:DOK.forum One-to-One Meetings Online
CLASS:PUBLIC
DTSTAMP:20260424T151815Z
END:VEVENT
END:VCALENDAR