BEGIN:VCALENDAR
VERSION:2.0
PRODID:dokfest-muenchen.de
BEGIN:VEVENT
UID:69eb897381b2f
DTSTART:20260509T180000Z
SEQUENCE:0
TRANSP:OPAQUE
DTEND:20260509T200000Z
LOCATION:HFF - Foyer
SUMMARY:Orange Hour Sonoton
CLASS:PUBLIC
DTSTAMP:20260424T151707Z
END:VEVENT
END:VCALENDAR