BEGIN:VCALENDAR
VERSION:2.0
PRODID:dokfest-muenchen.de
BEGIN:VEVENT
UID:69eb89c9016a8
DTSTART:20260509T160000Z
SEQUENCE:0
TRANSP:OPAQUE
DTEND:20260509T180000Z
LOCATION:HFF - Foyer
SUMMARY:Goethe-Institut Reception
CLASS:PUBLIC
DTSTAMP:20260424T151833Z
END:VEVENT
END:VCALENDAR