BEGIN:VCALENDAR
VERSION:2.0
PRODID:dokfest-muenchen.de
BEGIN:VEVENT
UID:69eb8986d5140
DTSTART:20260510T083000Z
SEQUENCE:0
TRANSP:OPAQUE
DTEND:20260510T103000Z
LOCATION:HFF - Kino 1
SUMMARY:DOK.composition Pitch
CLASS:PUBLIC
DTSTAMP:20260424T151726Z
END:VEVENT
END:VCALENDAR