BEGIN:VCALENDAR
VERSION:2.0
PRODID:dokfest-muenchen.de
BEGIN:VEVENT
UID:69eb89860b447
DTSTART:20260508T180000Z
SEQUENCE:0
TRANSP:OPAQUE
DTEND:20260508T200000Z
LOCATION:HFF - Foyer
SUMMARY:Orange Hour Sonoton: Griechische Musik
CLASS:PUBLIC
DTSTAMP:20260424T151726Z
END:VEVENT
END:VCALENDAR