BEGIN:VCALENDAR
VERSION:2.0
PRODID:dokfest-muenchen.de
BEGIN:VEVENT
UID:69eb89b791d7f
DTSTART:20260509T063000Z
SEQUENCE:0
TRANSP:OPAQUE
DTEND:20260509T083000Z
LOCATION:HFF - Seminarräume
SUMMARY:DOK.forum Roundtable Pitches
CLASS:PUBLIC
DTSTAMP:20260424T151815Z
END:VEVENT
END:VCALENDAR