BEGIN:VCALENDAR
VERSION:2.0
PRODID:dokfest-muenchen.de
BEGIN:VEVENT
UID:69eb897205d11
DTSTART:20260509T130000Z
SEQUENCE:0
TRANSP:OPAQUE
DTEND:20260509T150000Z
LOCATION:HFF - Filmstudio 2
SUMMARY:Meet the Experts Consultancies
CLASS:PUBLIC
DTSTAMP:20260424T151706Z
END:VEVENT
END:VCALENDAR