BEGIN:VCALENDAR
VERSION:2.0
PRODID:dokfest-muenchen.de
BEGIN:VEVENT
UID:69eb8a30ed2a5
DTSTART:20260509T090000Z
SEQUENCE:0
TRANSP:OPAQUE
DTEND:20260509T110000Z
LOCATION:HFF - Kino 2
SUMMARY:dok.art: Das Einzigartige der Autor*innenschaft
CLASS:PUBLIC
DTSTAMP:20260424T152016Z
END:VEVENT
END:VCALENDAR