BEGIN:VCALENDAR
VERSION:2.0
PRODID:dokfest-muenchen.de
BEGIN:VEVENT
UID:69eb8986566ab
DTSTART:20260509T150000Z
SEQUENCE:0
TRANSP:OPAQUE
DTEND:20260509T170000Z
LOCATION:HFF - Kino 1
SUMMARY:DOK.forum Award Ceremony
CLASS:PUBLIC
DTSTAMP:20260424T151726Z
END:VEVENT
END:VCALENDAR