BEGIN:VCALENDAR
VERSION:2.0
PRODID:dokfest-muenchen.de
BEGIN:VEVENT
UID:69eb897164f76
DTSTART:20260509T110000Z
SEQUENCE:0
TRANSP:OPAQUE
DTEND:20260509T130000Z
LOCATION:HFF - Kino 1
SUMMARY:DOK.archive Pitch
CLASS:PUBLIC
DTSTAMP:20260424T151705Z
END:VEVENT
END:VCALENDAR