BEGIN:VCALENDAR
VERSION:2.0
PRODID:dokfest-muenchen.de
BEGIN:VEVENT
UID:69eb89869e03f
DTSTART:20260507T150000Z
SEQUENCE:0
TRANSP:OPAQUE
DTEND:20260507T170000Z
LOCATION:Amerikahaus
SUMMARY:FFF Reception (nur mit Einladung)
CLASS:PUBLIC
DTSTAMP:20260424T151726Z
END:VEVENT
END:VCALENDAR