BEGIN:VCALENDAR
VERSION:2.0
PRODID:dokfest-muenchen.de
BEGIN:VEVENT
UID:69eb897450905
DTSTART:20260507T180000Z
SEQUENCE:0
TRANSP:OPAQUE
DTEND:20260507T200000Z
LOCATION:HFF - Foyer
SUMMARY:Orange Hour Sonoton
CLASS:PUBLIC
DTSTAMP:20260424T151708Z
END:VEVENT
END:VCALENDAR