BEGIN:VCALENDAR
VERSION:2.0
PRODID:dokfest-muenchen.de
BEGIN:VEVENT
UID:69eb897306c80
DTSTART:20260507T093000Z
SEQUENCE:0
TRANSP:OPAQUE
DTEND:20260507T113000Z
LOCATION:HFF - Foyer
SUMMARY:Empfang Filmgipfel &amp\; DOK.forum Lunch
CLASS:PUBLIC
DTSTAMP:20260424T151707Z
END:VEVENT
END:VCALENDAR