BEGIN:VCALENDAR
VERSION:2.0
PRODID:dokfest-muenchen.de
BEGIN:VEVENT
UID:69e76c87e6698
DTSTART:20260508T133000Z
SEQUENCE:0
TRANSP:OPAQUE
DTEND:20260508T153000Z
LOCATION:HFF - Kino 1
SUMMARY:DOK.digital Pitch
CLASS:PUBLIC
DTSTAMP:20260421T122439Z
END:VEVENT
END:VCALENDAR