BEGIN:VCALENDAR
VERSION:2.0
PRODID:dokfest-muenchen.de
BEGIN:VEVENT
UID:69eb89874ee8b
DTSTART:20260508T113000Z
SEQUENCE:0
TRANSP:OPAQUE
DTEND:20260508T133000Z
LOCATION:HFF - Kino 1
SUMMARY:International Co-Production with the DACH Region. Spotlight on Gree
 ce
CLASS:PUBLIC
DTSTAMP:20260424T151727Z
END:VEVENT
END:VCALENDAR