BEGIN:VCALENDAR
VERSION:2.0
PRODID:dokfest-muenchen.de
BEGIN:VEVENT
UID:69eb89b772b51
DTSTART:20260507T090000Z
SEQUENCE:0
TRANSP:OPAQUE
DTEND:20260507T110000Z
LOCATION:HFF - Seminarraum 1
SUMMARY:Industry Rendezvous @DOK.fest 2026
CLASS:PUBLIC
DTSTAMP:20260424T151815Z
END:VEVENT
END:VCALENDAR