BEGIN:VCALENDAR
VERSION:2.0
PRODID:dokfest-muenchen.de
BEGIN:VEVENT
UID:69eb898574d1c
DTSTART:20260508T073000Z
SEQUENCE:0
TRANSP:OPAQUE
DTEND:20260508T093000Z
LOCATION:HFF - Kino 1
SUMMARY:Opening Keynote &amp\; Master's Pitch
CLASS:PUBLIC
DTSTAMP:20260424T151725Z
END:VEVENT
END:VCALENDAR