BEGIN:VCALENDAR
VERSION:2.0
PRODID:dokfest-muenchen.de
BEGIN:VEVENT
UID:69eb8975ed3f8
DTSTART:20260507T110000Z
SEQUENCE:0
TRANSP:OPAQUE
DTEND:20260507T130000Z
LOCATION:HFF
SUMMARY:DOK.talent Pitch
CLASS:PUBLIC
DTSTAMP:20260424T151709Z
END:VEVENT
END:VCALENDAR