BEGIN:VCALENDAR
VERSION:2.0
PRODID:dokfest-muenchen.de
BEGIN:VEVENT
UID:69eb8985a6d67
DTSTART:20260507T073000Z
SEQUENCE:0
TRANSP:OPAQUE
DTEND:20260507T093000Z
LOCATION:HFF - Kino 1
SUMMARY:2. Münchner Filmgipfel
CLASS:PUBLIC
DTSTAMP:20260424T151725Z
END:VEVENT
END:VCALENDAR