BEGIN:VCALENDAR
VERSION:2.0
PRODID:dokfest-muenchen.de
BEGIN:VEVENT
UID:69eb89b7b023e
DTSTART:20260510T120000Z
SEQUENCE:0
TRANSP:OPAQUE
DTEND:20260510T140000Z
LOCATION:HFF - Audimax
SUMMARY:AG DOK Mentoring
CLASS:PUBLIC
DTSTAMP:20260424T151815Z
END:VEVENT
END:VCALENDAR