BEGIN:VCALENDAR
VERSION:2.0
PRODID:dokfest-muenchen.de
BEGIN:VEVENT
UID:69eb89c7ed129
DTSTART:20260507T130000Z
SEQUENCE:0
TRANSP:OPAQUE
DTEND:20260507T150000Z
LOCATION:HFF - Kino 1
SUMMARY:Gaussian Splatting: neue Technologie\, neue Jobs\, neue Chancen
CLASS:PUBLIC
DTSTAMP:20260424T151831Z
END:VEVENT
END:VCALENDAR