BEGIN:VCALENDAR
VERSION:2.0
PRODID:dokfest-muenchen.de
BEGIN:VEVENT
UID:69eb89b7b03b2
DTSTART:20260507T113000Z
SEQUENCE:0
TRANSP:OPAQUE
DTEND:20260507T133000Z
LOCATION:HFF - Kino 1
SUMMARY:Zwischen Fakt und Fälschung: KI und Glaubwürdigkeit im Dokumentar
 film
CLASS:PUBLIC
DTSTAMP:20260424T151815Z
END:VEVENT
END:VCALENDAR