BEGIN:VCALENDAR
VERSION:2.0
PRODID:dokfest-muenchen.de
BEGIN:VEVENT
UID:69eb89c85ae24
DTSTART:20260509T120000Z
SEQUENCE:0
TRANSP:OPAQUE
DTEND:20260509T140000Z
LOCATION:HFF - Audimax
SUMMARY:TikTok\, YouTube and algorithms: how to reach Gen Z
CLASS:PUBLIC
DTSTAMP:20260424T151832Z
END:VEVENT
END:VCALENDAR