BEGIN:VCALENDAR
VERSION:2.0
PRODID:dokfest-muenchen.de
BEGIN:VEVENT
UID:69eb8985b60eb
DTSTART:20260508T142000Z
SEQUENCE:0
TRANSP:OPAQUE
DTEND:20260508T162000Z
LOCATION:HFF - Audimax
SUMMARY:Inside Digital-First Production and Commissioning
CLASS:PUBLIC
DTSTAMP:20260424T151725Z
END:VEVENT
END:VCALENDAR