BEGIN:VCALENDAR
VERSION:2.0
PRODID:dokfest-muenchen.de
BEGIN:VEVENT
UID:69eb89b81b97a
DTSTART:20260508T114500Z
SEQUENCE:0
TRANSP:OPAQUE
DTEND:20260508T134500Z
LOCATION:HFF - Audimax
SUMMARY:Demystifying the Digital Content Ecosystem
CLASS:PUBLIC
DTSTAMP:20260424T151816Z
END:VEVENT
END:VCALENDAR