BEGIN:VCALENDAR
VERSION:2.0
PRODID:dokfest-muenchen.de
BEGIN:VEVENT
UID:69eb89b840197
DTSTART:20260509T094500Z
SEQUENCE:0
TRANSP:OPAQUE
DTEND:20260509T114500Z
LOCATION:HFF - Filmstudio 1
SUMMARY:Workshop. Win-Win: Documentary Filmmakers &amp\; Brands
CLASS:PUBLIC
DTSTAMP:20260424T151816Z
END:VEVENT
END:VCALENDAR