BEGIN:VCALENDAR
VERSION:2.0
PRODID:dokfest-muenchen.de
BEGIN:VEVENT
UID:69eb897499ec7
DTSTART:20260509T123000Z
SEQUENCE:0
TRANSP:OPAQUE
DTEND:20260509T143000Z
LOCATION:HFF - Audimax
SUMMARY:Digital production and audience case studies
CLASS:PUBLIC
DTSTAMP:20260424T151708Z
END:VEVENT
END:VCALENDAR