BEGIN:VCALENDAR
VERSION:2.0
PRODID:dokfest-muenchen.de
BEGIN:VEVENT
UID:69eb897406fba
DTSTART:20260509T131500Z
SEQUENCE:0
TRANSP:OPAQUE
DTEND:20260509T151500Z
LOCATION:HFF - Audimax
SUMMARY:Beyond Linear: Connecting with Today`s Audiences
CLASS:PUBLIC
DTSTAMP:20260424T151708Z
END:VEVENT
END:VCALENDAR