BEGIN:VCALENDAR
VERSION:2.0
PRODID:dokfest-muenchen.de
BEGIN:VEVENT
UID:69eb89c822df7
DTSTART:20260508T123000Z
SEQUENCE:0
TRANSP:OPAQUE
DTEND:20260508T143000Z
LOCATION:HFF - Audimax
SUMMARY:YouTube for Documentary: Reach\, Formats\, Visibility
CLASS:PUBLIC
DTSTAMP:20260424T151832Z
END:VEVENT
END:VCALENDAR