BEGIN:VCALENDAR
VERSION:2.0
PRODID:dokfest-muenchen.de
BEGIN:VEVENT
UID:69eb89718431d
DTSTART:20260508T134500Z
SEQUENCE:0
TRANSP:OPAQUE
DTEND:20260508T154500Z
LOCATION:HFF - Audimax
SUMMARY:Broadcasters\, Brands and the New Editorial Landscape
CLASS:PUBLIC
DTSTAMP:20260424T151705Z
END:VEVENT
END:VCALENDAR