BEGIN:VCALENDAR
VERSION:2.0
PRODID:dokfest-muenchen.de
BEGIN:VEVENT
UID:69eb89871844f
DTSTART:20260509T080000Z
SEQUENCE:0
TRANSP:OPAQUE
DTEND:20260509T100000Z
LOCATION:HFF - Audimax
SUMMARY:Funding Without Compromise? New Paths for Documentary Film
CLASS:PUBLIC
DTSTAMP:20260424T151727Z
END:VEVENT
END:VCALENDAR