BEGIN:VCALENDAR
VERSION:2.0
PRODID:dokfest-muenchen.de
BEGIN:VEVENT
UID:69eb89c8ac2a6
DTSTART:20260509T070000Z
SEQUENCE:0
TRANSP:OPAQUE
DTEND:20260509T090000Z
LOCATION:HFF - Audimax
SUMMARY:Financing Docs Today: Case Studies Beyond the Broadcaster
CLASS:PUBLIC
DTSTAMP:20260424T151832Z
END:VEVENT
END:VCALENDAR